BEGIN:VCALENDAR
VERSION:2.0
PRODID:-//lifelinemo.org//NONSGML kigkonsult.se iCalcreator 2.30.10//
CALSCALE:GREGORIAN
METHOD:PUBLISH
UID:7bce6e2b-15ac-420d-9b6b-fa5de1e6164b
X-WR-CALDESC:
X-WR-RELCALID:82991779dd539334a2946e36ce4b4203
X-WR-TIMEZONE:America/Chicago
BEGIN:VTIMEZONE
TZID:America/Chicago
BEGIN:STANDARD
TZNAME:CST
DTSTART:20251102T020000
TZOFFSETFROM:-0500
TZOFFSETTO:-0600
RDATE:20261101T020000
RDATE:20271107T020000
END:STANDARD
BEGIN:DAYLIGHT
TZNAME:CDT
DTSTART:20260308T020000
TZOFFSETFROM:-0600
TZOFFSETTO:-0500
RDATE:20270314T020000
END:DAYLIGHT
END:VTIMEZONE
BEGIN:VEVENT
UID:401a1673-30ee-4a10-92bb-271067b10285
DTSTAMP:20260421T194514Z
DESCRIPTION:
DTSTART;TZID=America/Chicago:20260826T100000
DTEND;TZID=America/Chicago:20260826T110000
LOCATION:Lifeline\, 1515 N New Street\, Kirksville\, MO 63501 US
SUMMARY:Connection Groups: Infant Parenting
END:VEVENT
END:VCALENDAR
