BEGIN:VCALENDAR
VERSION:2.0
PRODID:-//lifelinemo.org//NONSGML kigkonsult.se iCalcreator 2.30.10//
CALSCALE:GREGORIAN
METHOD:PUBLISH
UID:3c05d8fb-f422-41bf-9ce4-d04b7ad0316a
X-WR-CALDESC:
X-WR-RELCALID:ceed626201978d73c72f34f7de7914d7
X-WR-TIMEZONE:America/Chicago
BEGIN:VTIMEZONE
TZID:America/Chicago
BEGIN:STANDARD
TZNAME:CST
DTSTART:20251102T020000
TZOFFSETFROM:-0500
TZOFFSETTO:-0600
RDATE:20261101T020000
RDATE:20271107T020000
END:STANDARD
BEGIN:DAYLIGHT
TZNAME:CDT
DTSTART:20260308T020000
TZOFFSETFROM:-0600
TZOFFSETTO:-0500
RDATE:20270314T020000
END:DAYLIGHT
END:VTIMEZONE
BEGIN:VEVENT
UID:ea596623-0984-47c8-8e28-9d260bd81137
DTSTAMP:20260421T214800Z
DESCRIPTION:
DTSTART;TZID=America/Chicago:20260902T110000
DTEND;TZID=America/Chicago:20260902T120000
LOCATION:Lifeline\, 1515 New Street\, Kirksville\, MO 63501 US
SUMMARY:Connection Groups: Community Connections
END:VEVENT
END:VCALENDAR
