BEGIN:VCALENDAR
VERSION:2.0
PRODID:-//lifelinemo.org//NONSGML kigkonsult.se iCalcreator 2.30.10//
CALSCALE:GREGORIAN
METHOD:PUBLISH
UID:1813e64c-83e3-42b6-8a55-6031c2b1fc18
X-WR-CALDESC:
X-WR-RELCALID:a828ee1f598af028ac325c23f4f78691
X-WR-TIMEZONE:America/Chicago
BEGIN:VTIMEZONE
TZID:America/Chicago
BEGIN:STANDARD
TZNAME:CST
DTSTART:20251102T020000
TZOFFSETFROM:-0500
TZOFFSETTO:-0600
RDATE:20261101T020000
RDATE:20271107T020000
END:STANDARD
BEGIN:DAYLIGHT
TZNAME:CDT
DTSTART:20260308T020000
TZOFFSETFROM:-0600
TZOFFSETTO:-0500
RDATE:20270314T020000
RDATE:20280312T020000
END:DAYLIGHT
END:VTIMEZONE
BEGIN:VEVENT
UID:a3143b39-2c47-4f51-be3d-7aa0492af562
DTSTAMP:20260421T232546Z
DESCRIPTION:
DTSTART;TZID=America/Chicago:20261005T110000
DTEND;TZID=America/Chicago:20261005T120000
LOCATION:635 S Main St\, Brookfield\, MO 64628 US
SUMMARY:Mobile Clinic: Brookfield\, MO
END:VEVENT
END:VCALENDAR
