BEGIN:VCALENDAR
VERSION:2.0
PRODID:-//lifelinemo.org//NONSGML kigkonsult.se iCalcreator 2.30.10//
CALSCALE:GREGORIAN
METHOD:PUBLISH
UID:d19f5163-c32d-4e27-9def-27989fd03611
X-WR-CALDESC:
X-WR-RELCALID:adfddf16631efc117bdb2bdf4a1105e2
X-WR-TIMEZONE:America/Chicago
BEGIN:VTIMEZONE
TZID:America/Chicago
BEGIN:STANDARD
TZNAME:CST
DTSTART:20261101T020000
TZOFFSETFROM:-0500
TZOFFSETTO:-0600
RDATE:20271107T020000
END:STANDARD
BEGIN:DAYLIGHT
TZNAME:CDT
DTSTART:20260308T020000
TZOFFSETFROM:-0600
TZOFFSETTO:-0500
RDATE:20270314T020000
RDATE:20280312T020000
END:DAYLIGHT
END:VTIMEZONE
BEGIN:VEVENT
UID:e4906916-64a6-424c-adff-64251f257192
DTSTAMP:20260422T011146Z
DESCRIPTION:
DTSTART;TZID=America/Chicago:20261103T130000
DTEND;TZID=America/Chicago:20261103T140000
LOCATION:102 Monticello\, Edina\, MO 63537 US
SUMMARY:Mobile Clinic: Edina\, MO
END:VEVENT
END:VCALENDAR
