BEGIN:VCALENDAR
VERSION:2.0
PRODID:-//lifelinemo.org//NONSGML kigkonsult.se iCalcreator 2.30.10//
CALSCALE:GREGORIAN
METHOD:PUBLISH
UID:ccd4f6d0-a775-461f-b803-a6fec936748e
X-WR-CALDESC:
X-WR-RELCALID:a89aa887bd8ba6db4b6ab0a5d47178b9
X-WR-TIMEZONE:America/Chicago
BEGIN:VTIMEZONE
TZID:America/Chicago
BEGIN:STANDARD
TZNAME:CST
DTSTART:20261101T020000
TZOFFSETFROM:-0500
TZOFFSETTO:-0600
RDATE:20271107T020000
END:STANDARD
BEGIN:DAYLIGHT
TZNAME:CDT
DTSTART:20260308T020000
TZOFFSETFROM:-0600
TZOFFSETTO:-0500
RDATE:20270314T020000
RDATE:20280312T020000
END:DAYLIGHT
END:VTIMEZONE
BEGIN:VEVENT
UID:2c1b7869-3c95-428f-8678-310ec6778bf5
DTSTAMP:20260422T012602Z
DESCRIPTION:
DTSTART;TZID=America/Chicago:20261110T140000
DTEND;TZID=America/Chicago:20261110T150000
LOCATION:Lifeline\, 1515 N New Street\, Kirksville\, MO 63501 US
SUMMARY:Group Class: Safe Sleep
END:VEVENT
END:VCALENDAR
