BEGIN:VCALENDAR
VERSION:2.0
PRODID:-//lifelinemo.org//NONSGML kigkonsult.se iCalcreator 2.30.10//
CALSCALE:GREGORIAN
METHOD:PUBLISH
UID:5e97404b-c142-44b8-a687-2a768de7f97f
X-WR-CALDESC:
X-WR-RELCALID:0df31094135791ff0fb742f73ccd4618
X-WR-TIMEZONE:America/Chicago
BEGIN:VTIMEZONE
TZID:America/Chicago
BEGIN:STANDARD
TZNAME:CST
DTSTART:20261101T020000
TZOFFSETFROM:-0500
TZOFFSETTO:-0600
RDATE:20271107T020000
END:STANDARD
BEGIN:DAYLIGHT
TZNAME:CDT
DTSTART:20260308T020000
TZOFFSETFROM:-0600
TZOFFSETTO:-0500
RDATE:20270314T020000
RDATE:20280312T020000
END:DAYLIGHT
END:VTIMEZONE
BEGIN:VEVENT
UID:20740d21-f897-4c38-ae17-f90bebc2edbc
DTSTAMP:20260422T012019Z
DESCRIPTION:
DTSTART;TZID=America/Chicago:20261125T130000
DTEND;TZID=America/Chicago:20261125T140000
LOCATION:Lifeline\, 1515 N New Street\, Kirksville\, MO 63501 US
SUMMARY:Connection Groups: Spiritual Connections
END:VEVENT
END:VCALENDAR
