BEGIN:VCALENDAR
VERSION:2.0
PRODID:-//lifelinemo.org//NONSGML kigkonsult.se iCalcreator 2.30.10//
CALSCALE:GREGORIAN
METHOD:PUBLISH
UID:3820fbf2-62c0-4dad-aff7-004421bfb53b
X-WR-CALDESC:
X-WR-RELCALID:0964fc3dc8a1312c7d9ef477873b9b7b
X-WR-TIMEZONE:America/Chicago
BEGIN:VTIMEZONE
TZID:America/Chicago
BEGIN:STANDARD
TZNAME:CST
DTSTART:20261101T020000
TZOFFSETFROM:-0500
TZOFFSETTO:-0600
RDATE:20271107T020000
END:STANDARD
BEGIN:DAYLIGHT
TZNAME:CDT
DTSTART:20260308T020000
TZOFFSETFROM:-0600
TZOFFSETTO:-0500
RDATE:20270314T020000
RDATE:20280312T020000
END:DAYLIGHT
END:VTIMEZONE
BEGIN:VEVENT
UID:feb72f99-69d0-4fde-995a-758ba3d812db
DTSTAMP:20260422T011005Z
DESCRIPTION:
DTSTART;TZID=America/Chicago:20261126T100000
DTEND;TZID=America/Chicago:20261126T110000
LOCATION:Schuyler County Health Department\, 213 S Green St\, Lancaster\, M
 O 63548 US
SUMMARY:Mobile Clinic: Lancaster\, MO
END:VEVENT
END:VCALENDAR
