BEGIN:VCALENDAR
VERSION:2.0
PRODID:-//lifelinemo.org//NONSGML kigkonsult.se iCalcreator 2.30.10//
CALSCALE:GREGORIAN
METHOD:PUBLISH
UID:50b482a6-2c44-4ca0-b0e8-ec4ef571379c
X-WR-CALDESC:
X-WR-RELCALID:812de5d235b14abf739e9652a005ca7e
X-WR-TIMEZONE:America/Chicago
BEGIN:VTIMEZONE
TZID:America/Chicago
BEGIN:STANDARD
TZNAME:CST
DTSTART:20261101T020000
TZOFFSETFROM:-0500
TZOFFSETTO:-0600
RDATE:20271107T020000
END:STANDARD
BEGIN:DAYLIGHT
TZNAME:CDT
DTSTART:20260308T020000
TZOFFSETFROM:-0600
TZOFFSETTO:-0500
RDATE:20270314T020000
RDATE:20280312T020000
END:DAYLIGHT
END:VTIMEZONE
BEGIN:VEVENT
UID:50d573ec-795c-4fb0-9711-b54f1488a652
DTSTAMP:20260422T032227Z
DESCRIPTION:
DTSTART;TZID=America/Chicago:20261216T100000
DTEND;TZID=America/Chicago:20261216T110000
LOCATION:Lifeline\, 1515 N New Street\, Kirksville\, MO 63501 US
SUMMARY:Connection Groups: Newborn Parenting
END:VEVENT
END:VCALENDAR
