BEGIN:VCALENDAR
VERSION:2.0
PRODID:-//lifelinemo.org//NONSGML kigkonsult.se iCalcreator 2.30.10//
CALSCALE:GREGORIAN
METHOD:PUBLISH
UID:69193127-d4df-4eb2-9622-16252eab4b55
X-WR-CALDESC:
X-WR-RELCALID:3f93268ee137ded4325b21f86ffc9502
X-WR-TIMEZONE:America/Chicago
BEGIN:VTIMEZONE
TZID:America/Chicago
BEGIN:STANDARD
TZNAME:CST
DTSTART:20261101T020000
TZOFFSETFROM:-0500
TZOFFSETTO:-0600
RDATE:20271107T020000
END:STANDARD
BEGIN:DAYLIGHT
TZNAME:CDT
DTSTART:20260308T020000
TZOFFSETFROM:-0600
TZOFFSETTO:-0500
RDATE:20270314T020000
RDATE:20280312T020000
END:DAYLIGHT
END:VTIMEZONE
BEGIN:VEVENT
UID:e643ec9b-d2cc-4ca6-840a-12d39380792c
DTSTAMP:20260422T050404Z
DESCRIPTION:
DTSTART;TZID=America/Chicago:20270113T100000
DTEND;TZID=America/Chicago:20270113T110000
LOCATION:Lifeline\, 1515 New Street\, Kirksville\, MO 63501 US
SUMMARY:Connection Groups: Late Pregnancy
END:VEVENT
END:VCALENDAR
