BEGIN:VCALENDAR
VERSION:2.0
PRODID:-//lifelinemo.org//NONSGML kigkonsult.se iCalcreator 2.30.10//
CALSCALE:GREGORIAN
METHOD:PUBLISH
UID:7415bd87-c0c7-4cf2-9c00-5273fc838222
X-WR-CALDESC:
X-WR-RELCALID:a8cda4bef7fb3604c3e967aa4860ad1f
X-WR-TIMEZONE:America/Chicago
BEGIN:VTIMEZONE
TZID:America/Chicago
BEGIN:STANDARD
TZNAME:CST
DTSTART:20261101T020000
TZOFFSETFROM:-0500
TZOFFSETTO:-0600
RDATE:20271107T020000
END:STANDARD
BEGIN:DAYLIGHT
TZNAME:CDT
DTSTART:20270314T020000
TZOFFSETFROM:-0600
TZOFFSETTO:-0500
RDATE:20280312T020000
END:DAYLIGHT
END:VTIMEZONE
BEGIN:VEVENT
UID:05c294db-6334-4061-86bb-0ae2ad958e2f
DTSTAMP:20260422T082749Z
DESCRIPTION:
DTSTART;TZID=America/Chicago:20270310T100000
DTEND;TZID=America/Chicago:20270310T110000
LOCATION:Lifeline\, 1515 New Street\, Kirksville\, MO 63501 US
SUMMARY:Connection Groups: Late Pregnancy
END:VEVENT
END:VCALENDAR
