BEGIN:VCALENDAR
VERSION:2.0
PRODID:-//lifelinemo.org//NONSGML kigkonsult.se iCalcreator 2.30.10//
CALSCALE:GREGORIAN
METHOD:PUBLISH
UID:eb689d3c-f400-4d90-92c6-65bae9ffd925
X-WR-CALDESC:
X-WR-RELCALID:e7d7ab9c4cc23a3721b081d8174cf1a3
X-WR-TIMEZONE:America/Chicago
BEGIN:VTIMEZONE
TZID:America/Chicago
BEGIN:STANDARD
TZNAME:CST
DTSTART:20261101T020000
TZOFFSETFROM:-0500
TZOFFSETTO:-0600
RDATE:20271107T020000
END:STANDARD
BEGIN:DAYLIGHT
TZNAME:CDT
DTSTART:20270314T020000
TZOFFSETFROM:-0600
TZOFFSETTO:-0500
RDATE:20280312T020000
END:DAYLIGHT
END:VTIMEZONE
BEGIN:VEVENT
UID:9086df4d-6698-46d7-b598-a936ca4dac60
DTSTAMP:20260422T084545Z
DESCRIPTION:
DTSTART;TZID=America/Chicago:20270315T100000
DTEND;TZID=America/Chicago:20270315T110000
LOCATION:Scotland County Health Department\, 214 W Madison St\, Memphis\, M
 O 63555 US
SUMMARY:Mobile Clinic: Memphis\, MO
END:VEVENT
END:VCALENDAR
