BEGIN:VCALENDAR
VERSION:2.0
PRODID:-//lifelinemo.org//NONSGML kigkonsult.se iCalcreator 2.30.10//
CALSCALE:GREGORIAN
METHOD:PUBLISH
UID:3aabc67b-6943-458d-a32e-23e339346a53
X-WR-CALDESC:
X-WR-RELCALID:07d4adcd99cd7d0ed6c183c7ba737143
X-WR-TIMEZONE:America/Chicago
BEGIN:VTIMEZONE
TZID:America/Chicago
BEGIN:STANDARD
TZNAME:CST
DTSTART:20261101T020000
TZOFFSETFROM:-0500
TZOFFSETTO:-0600
RDATE:20271107T020000
END:STANDARD
BEGIN:DAYLIGHT
TZNAME:CDT
DTSTART:20270314T020000
TZOFFSETFROM:-0600
TZOFFSETTO:-0500
RDATE:20280312T020000
END:DAYLIGHT
END:VTIMEZONE
BEGIN:VEVENT
UID:16e2f6fb-6dff-41a7-8011-2e33617606a7
DTSTAMP:20260422T064205Z
DESCRIPTION:
DTSTART;TZID=America/Chicago:20270407T110000
DTEND;TZID=America/Chicago:20270407T120000
LOCATION:Lifeline\, 1515 New Street\, Kirksville\, MO 63501 US
SUMMARY:Connection Groups: Community Connections
END:VEVENT
END:VCALENDAR
