BEGIN:VCALENDAR
VERSION:2.0
PRODID:-//lifelinemo.org//NONSGML kigkonsult.se iCalcreator 2.30.10//
CALSCALE:GREGORIAN
METHOD:PUBLISH
UID:ad96d631-1b32-4186-8ed5-9202d30e5719
X-WR-CALDESC:
X-WR-RELCALID:f4e8b83683c94cff5ad89649c08122fc
X-WR-TIMEZONE:America/Chicago
BEGIN:VTIMEZONE
TZID:America/Chicago
BEGIN:STANDARD
TZNAME:CST
DTSTART:20261101T020000
TZOFFSETFROM:-0500
TZOFFSETTO:-0600
RDATE:20271107T020000
RDATE:20281105T020000
END:STANDARD
BEGIN:DAYLIGHT
TZNAME:CDT
DTSTART:20270314T020000
TZOFFSETFROM:-0600
TZOFFSETTO:-0500
RDATE:20280312T020000
END:DAYLIGHT
END:VTIMEZONE
BEGIN:VEVENT
UID:e4accecd-bd5c-4170-8d5b-0ccc7393fddd
DTSTAMP:20260422T082823Z
DESCRIPTION:
DTSTART;TZID=America/Chicago:20270510T143000
DTEND;TZID=America/Chicago:20270510T153000
LOCATION:Lifeline\, 1515 N New Street\, Kirksville\, MO 63501 US
SUMMARY:Group Class: Infant Nutrition
END:VEVENT
END:VCALENDAR
