BEGIN:VCALENDAR
VERSION:2.0
PRODID:-//lifelinemo.org//NONSGML kigkonsult.se iCalcreator 2.30.10//
CALSCALE:GREGORIAN
METHOD:PUBLISH
UID:92362196-4a16-4065-83e6-dc83c13cec55
X-WR-CALDESC:
X-WR-RELCALID:06411e8d6b19e4e1259b0b25d9420295
X-WR-TIMEZONE:America/Chicago
BEGIN:VTIMEZONE
TZID:America/Chicago
BEGIN:STANDARD
TZNAME:CST
DTSTART:20261101T020000
TZOFFSETFROM:-0500
TZOFFSETTO:-0600
RDATE:20271107T020000
RDATE:20281105T020000
END:STANDARD
BEGIN:DAYLIGHT
TZNAME:CDT
DTSTART:20270314T020000
TZOFFSETFROM:-0600
TZOFFSETTO:-0500
RDATE:20280312T020000
END:DAYLIGHT
END:VTIMEZONE
BEGIN:VEVENT
UID:b40841dc-db09-455c-8518-d5b540e7c524
DTSTAMP:20260422T124112Z
DESCRIPTION:
DTSTART;TZID=America/Chicago:20270706T093000
DTEND;TZID=America/Chicago:20270706T123000
LOCATION:1515 N New St\, Kirksville\, MO 63501 US
SUMMARY:Group Class: CPR & First Aid
END:VEVENT
END:VCALENDAR
