BEGIN:VCALENDAR
VERSION:2.0
PRODID:-//lifelinemo.org//NONSGML kigkonsult.se iCalcreator 2.30.10//
CALSCALE:GREGORIAN
METHOD:PUBLISH
UID:d6dbf620-9922-442a-b9a3-05f35f458490
X-WR-CALDESC:
X-WR-RELCALID:dc18411e2747a38946ac4e3442b2e900
X-WR-TIMEZONE:America/Chicago
BEGIN:VTIMEZONE
TZID:America/Chicago
BEGIN:STANDARD
TZNAME:CST
DTSTART:20261101T020000
TZOFFSETFROM:-0500
TZOFFSETTO:-0600
RDATE:20271107T020000
RDATE:20281105T020000
END:STANDARD
BEGIN:DAYLIGHT
TZNAME:CDT
DTSTART:20270314T020000
TZOFFSETFROM:-0600
TZOFFSETTO:-0500
RDATE:20280312T020000
END:DAYLIGHT
END:VTIMEZONE
BEGIN:VEVENT
UID:27d3779d-ace4-4720-b6da-7070b3c77b03
DTSTAMP:20260422T124329Z
DESCRIPTION:
DTSTART;TZID=America/Chicago:20270721T100000
DTEND;TZID=America/Chicago:20270721T110000
LOCATION:Lifeline\, 1515 N New Street\, Kirksville\, MO 63501 US
SUMMARY:Connection Groups: Newborn Parenting
END:VEVENT
END:VCALENDAR
