BEGIN:VCALENDAR
VERSION:2.0
PRODID:-//lifelinemo.org//NONSGML kigkonsult.se iCalcreator 2.30.10//
CALSCALE:GREGORIAN
METHOD:PUBLISH
UID:d32c413a-3083-4927-9ad4-5da03f7a3973
X-WR-CALDESC:
X-WR-RELCALID:32bc957b6a30089d49c9bcea79a491ba
X-WR-TIMEZONE:America/Chicago
BEGIN:VTIMEZONE
TZID:America/Chicago
BEGIN:STANDARD
TZNAME:CST
DTSTART:20261101T020000
TZOFFSETFROM:-0500
TZOFFSETTO:-0600
RDATE:20271107T020000
RDATE:20281105T020000
END:STANDARD
BEGIN:DAYLIGHT
TZNAME:CDT
DTSTART:20270314T020000
TZOFFSETFROM:-0600
TZOFFSETTO:-0500
RDATE:20280312T020000
END:DAYLIGHT
END:VTIMEZONE
BEGIN:VEVENT
UID:f2ea95d3-c76f-4331-9543-6ba8218fd6aa
DTSTAMP:20260422T142817Z
DESCRIPTION:
DTSTART;TZID=America/Chicago:20270804T100000
DTEND;TZID=America/Chicago:20270804T110000
LOCATION:Lifeline\, 1515 New Street\, Kirksville\, MO 63501 US
SUMMARY:Connection Groups: Early Pregnancy
END:VEVENT
END:VCALENDAR
