BEGIN:VCALENDAR
VERSION:2.0
PRODID:-//lifelinemo.org//NONSGML kigkonsult.se iCalcreator 2.30.10//
CALSCALE:GREGORIAN
METHOD:PUBLISH
UID:02d8b317-79fb-47c6-b1e8-c4f5e83fe072
X-WR-CALDESC:
X-WR-RELCALID:ec43276232200f13a1a627d803ca8a2c
X-WR-TIMEZONE:America/Chicago
BEGIN:VTIMEZONE
TZID:America/Chicago
BEGIN:STANDARD
TZNAME:CST
DTSTART:20261101T020000
TZOFFSETFROM:-0500
TZOFFSETTO:-0600
RDATE:20271107T020000
RDATE:20281105T020000
END:STANDARD
BEGIN:DAYLIGHT
TZNAME:CDT
DTSTART:20270314T020000
TZOFFSETFROM:-0600
TZOFFSETTO:-0500
RDATE:20280312T020000
END:DAYLIGHT
END:VTIMEZONE
BEGIN:VEVENT
UID:f157fa26-7e2c-453e-98b4-025665a6814f
DTSTAMP:20260422T142339Z
DESCRIPTION:
DTSTART;TZID=America/Chicago:20270825T100000
DTEND;TZID=America/Chicago:20270825T110000
LOCATION:Lifeline\, 1515 N New Street\, Kirksville\, MO 63501 US
SUMMARY:Connection Groups: Infant Parenting
END:VEVENT
END:VCALENDAR
