BEGIN:VCALENDAR
VERSION:2.0
PRODID:-//lifelinemo.org//NONSGML kigkonsult.se iCalcreator 2.30.10//
CALSCALE:GREGORIAN
METHOD:PUBLISH
UID:99276370-1e3b-408d-b56a-59d2fda67b2f
X-WR-CALDESC:
X-WR-RELCALID:6785514e04e43603416b71b6a7691774
X-WR-TIMEZONE:America/Chicago
BEGIN:VTIMEZONE
TZID:America/Chicago
BEGIN:STANDARD
TZNAME:CST
DTSTART:20271107T020000
TZOFFSETFROM:-0500
TZOFFSETTO:-0600
RDATE:20281105T020000
END:STANDARD
BEGIN:DAYLIGHT
TZNAME:CDT
DTSTART:20270314T020000
TZOFFSETFROM:-0600
TZOFFSETTO:-0500
RDATE:20280312T020000
RDATE:20290311T020000
END:DAYLIGHT
END:VTIMEZONE
BEGIN:VEVENT
UID:5ea99b65-b4be-46d1-b02b-f785cdc09339
DTSTAMP:20260422T212040Z
DESCRIPTION:
DTSTART;TZID=America/Chicago:20271214T140000
DTEND;TZID=America/Chicago:20271214T150000
LOCATION:Lifeline\, 1515 N New Street\, Kirksville\, MO 63501 US
SUMMARY:Group Class: Safe Sleep
END:VEVENT
END:VCALENDAR
