BEGIN:VCALENDAR
VERSION:2.0
PRODID:-//lifelinemo.org//NONSGML kigkonsult.se iCalcreator 2.30.10//
CALSCALE:GREGORIAN
METHOD:PUBLISH
UID:35881aa5-7d05-466f-9d63-e99fa5d51c27
X-WR-CALDESC:
X-WR-RELCALID:6ab09820d919f2fb6de86c2c13fe15ed
X-WR-TIMEZONE:America/Chicago
BEGIN:VTIMEZONE
TZID:America/Chicago
BEGIN:STANDARD
TZNAME:CST
DTSTART:20271107T020000
TZOFFSETFROM:-0500
TZOFFSETTO:-0600
RDATE:20281105T020000
END:STANDARD
BEGIN:DAYLIGHT
TZNAME:CDT
DTSTART:20270314T020000
TZOFFSETFROM:-0600
TZOFFSETTO:-0500
RDATE:20280312T020000
RDATE:20290311T020000
END:DAYLIGHT
END:VTIMEZONE
BEGIN:VEVENT
UID:8fa03285-4ec5-4599-a44a-7ea0a5a5abd6
DTSTAMP:20260423T001536Z
DESCRIPTION:
DTSTART;TZID=America/Chicago:20280126T130000
DTEND;TZID=America/Chicago:20280126T140000
LOCATION:Lifeline\, 1515 N New Street\, Kirksville\, MO 63501 US
SUMMARY:Connection Groups: Spiritual Connections
END:VEVENT
END:VCALENDAR
