BEGIN:VCALENDAR
VERSION:2.0
PRODID:-//lifelinemo.org//NONSGML kigkonsult.se iCalcreator 2.30.10//
CALSCALE:GREGORIAN
METHOD:PUBLISH
UID:5e33dc05-d873-4a77-a6fc-f36e0c6f0f94
X-WR-CALDESC:
X-WR-RELCALID:d80288cc9bd1f66c4ab521ff73f0841c
X-WR-TIMEZONE:America/Chicago
BEGIN:VTIMEZONE
TZID:America/Chicago
BEGIN:STANDARD
TZNAME:CST
DTSTART:20271107T020000
TZOFFSETFROM:-0500
TZOFFSETTO:-0600
RDATE:20281105T020000
END:STANDARD
BEGIN:DAYLIGHT
TZNAME:CDT
DTSTART:20270314T020000
TZOFFSETFROM:-0600
TZOFFSETTO:-0500
RDATE:20280312T020000
RDATE:20290311T020000
END:DAYLIGHT
END:VTIMEZONE
BEGIN:VEVENT
UID:f9feba03-7cfe-466a-866f-fd33558533ca
DTSTAMP:20260423T011626Z
DESCRIPTION:
DTSTART;TZID=America/Chicago:20280207T110000
DTEND;TZID=America/Chicago:20280207T120000
LOCATION:635 S Main St\, Brookfield\, MO 64628 US
SUMMARY:Mobile Clinic: Brookfield\, MO
END:VEVENT
END:VCALENDAR
