BEGIN:VCALENDAR
VERSION:2.0
PRODID:-//lifelinemo.org//NONSGML kigkonsult.se iCalcreator 2.30.10//
CALSCALE:GREGORIAN
METHOD:PUBLISH
UID:803939ef-16d8-4bb3-8c42-13781384d52d
X-WR-CALDESC:
X-WR-RELCALID:f669c3ac9154c7d37cea1697afb60a5a
X-WR-TIMEZONE:America/Chicago
BEGIN:VTIMEZONE
TZID:America/Chicago
BEGIN:STANDARD
TZNAME:CST
DTSTART:20271107T020000
TZOFFSETFROM:-0500
TZOFFSETTO:-0600
RDATE:20281105T020000
END:STANDARD
BEGIN:DAYLIGHT
TZNAME:CDT
DTSTART:20270314T020000
TZOFFSETFROM:-0600
TZOFFSETTO:-0500
RDATE:20280312T020000
RDATE:20290311T020000
END:DAYLIGHT
END:VTIMEZONE
BEGIN:VEVENT
UID:aaf19f81-6518-45e8-a937-f48dcb62d75d
DTSTAMP:20260423T031811Z
DESCRIPTION:
DTSTART;TZID=America/Chicago:20280313T130000
DTEND;TZID=America/Chicago:20280313T140000
LOCATION:Lifeline\, 1515 N New Street\, Kirksville\, MO 63501 US
SUMMARY:Group Classes: Pregnancy Nutrition
END:VEVENT
END:VCALENDAR
