BEGIN:VCALENDAR
VERSION:2.0
PRODID:-//lifelinemo.org//NONSGML kigkonsult.se iCalcreator 2.30.10//
CALSCALE:GREGORIAN
METHOD:PUBLISH
UID:8ef1d45a-83eb-456c-b536-1fd102093e49
X-WR-CALDESC:
X-WR-RELCALID:2df4d2e656b01f5fb0c150b65c102fb9
X-WR-TIMEZONE:America/Chicago
BEGIN:VTIMEZONE
TZID:America/Chicago
BEGIN:STANDARD
TZNAME:CST
DTSTART:20271107T020000
TZOFFSETFROM:-0500
TZOFFSETTO:-0600
RDATE:20281105T020000
RDATE:20291104T020000
END:STANDARD
BEGIN:DAYLIGHT
TZNAME:CDT
DTSTART:20280312T020000
TZOFFSETFROM:-0600
TZOFFSETTO:-0500
RDATE:20290311T020000
END:DAYLIGHT
END:VTIMEZONE
BEGIN:VEVENT
UID:a3924cb0-f2c6-4455-b2df-ec33ee39377f
DTSTAMP:20260423T045255Z
DESCRIPTION:
DTSTART;TZID=America/Chicago:20280612T143000
DTEND;TZID=America/Chicago:20280612T153000
LOCATION:Lifeline\, 1515 N New Street\, Kirksville\, MO 63501 US
SUMMARY:Group Class: Infant Nutrition
END:VEVENT
END:VCALENDAR
