BEGIN:VCALENDAR
VERSION:2.0
PRODID:-//lifelinemo.org//NONSGML kigkonsult.se iCalcreator 2.30.10//
CALSCALE:GREGORIAN
METHOD:PUBLISH
UID:a49d2283-ccff-4083-b71b-96a74abb9a38
X-WR-CALDESC:
X-WR-RELCALID:166526ba5e6930adc7b8dc1d95cafd2d
X-WR-TIMEZONE:America/Chicago
BEGIN:VTIMEZONE
TZID:America/Chicago
BEGIN:STANDARD
TZNAME:CST
DTSTART:20271107T020000
TZOFFSETFROM:-0500
TZOFFSETTO:-0600
RDATE:20281105T020000
RDATE:20291104T020000
END:STANDARD
BEGIN:DAYLIGHT
TZNAME:CDT
DTSTART:20280312T020000
TZOFFSETFROM:-0600
TZOFFSETTO:-0500
RDATE:20290311T020000
END:DAYLIGHT
END:VTIMEZONE
BEGIN:VEVENT
UID:0f16433a-0889-44e6-9f48-9affad0e499a
DTSTAMP:20260423T044257Z
DESCRIPTION:
DTSTART;TZID=America/Chicago:20280627T093000
DTEND;TZID=America/Chicago:20280627T103000
LOCATION:Lifeline\, 1515 N New Street\, Kirksville\, MO 63501 US
SUMMARY:Group Class: Infant First Aid
END:VEVENT
END:VCALENDAR
