BEGIN:VCALENDAR
VERSION:2.0
PRODID:-//lifelinemo.org//NONSGML kigkonsult.se iCalcreator 2.30.10//
CALSCALE:GREGORIAN
METHOD:PUBLISH
UID:97a720c0-e4bc-4638-b3fd-e1e97de41401
X-WR-CALDESC:
X-WR-RELCALID:1ebbe477878fa959a34d2bd53a3a0d07
X-WR-TIMEZONE:America/Chicago
BEGIN:VTIMEZONE
TZID:America/Chicago
BEGIN:STANDARD
TZNAME:CST
DTSTART:20271107T020000
TZOFFSETFROM:-0500
TZOFFSETTO:-0600
RDATE:20281105T020000
RDATE:20291104T020000
END:STANDARD
BEGIN:DAYLIGHT
TZNAME:CDT
DTSTART:20280312T020000
TZOFFSETFROM:-0600
TZOFFSETTO:-0500
RDATE:20290311T020000
END:DAYLIGHT
END:VTIMEZONE
BEGIN:VEVENT
UID:d03552a6-f0ca-4ddc-adcf-4aa7ff48d968
DTSTAMP:20260423T065629Z
DESCRIPTION:
DTSTART;TZID=America/Chicago:20280703T110000
DTEND;TZID=America/Chicago:20280703T120000
LOCATION:635 S Main St\, Brookfield\, MO 64628 US
SUMMARY:Mobile Clinic: Brookfield\, MO
END:VEVENT
END:VCALENDAR
