BEGIN:VCALENDAR
VERSION:2.0
PRODID:-//lifelinemo.org//NONSGML kigkonsult.se iCalcreator 2.30.10//
CALSCALE:GREGORIAN
METHOD:PUBLISH
UID:03090c89-c299-45c2-966e-b5e66a7eda84
X-WR-CALDESC:
X-WR-RELCALID:10771f714c9600eb567292e1555154ba
X-WR-TIMEZONE:America/Chicago
BEGIN:VTIMEZONE
TZID:America/Chicago
BEGIN:STANDARD
TZNAME:CST
DTSTART:20271107T020000
TZOFFSETFROM:-0500
TZOFFSETTO:-0600
RDATE:20281105T020000
RDATE:20291104T020000
END:STANDARD
BEGIN:DAYLIGHT
TZNAME:CDT
DTSTART:20280312T020000
TZOFFSETFROM:-0600
TZOFFSETTO:-0500
RDATE:20290311T020000
END:DAYLIGHT
END:VTIMEZONE
BEGIN:VEVENT
UID:9770b1f8-e12e-49cf-b3a7-fbf38f8ed093
DTSTAMP:20260423T104349Z
DESCRIPTION:
DTSTART;TZID=America/Chicago:20280906T110000
DTEND;TZID=America/Chicago:20280906T120000
LOCATION:Lifeline\, 1515 New Street\, Kirksville\, MO 63501 US
SUMMARY:Connection Groups: Community Connections
END:VEVENT
END:VCALENDAR
