BEGIN:VCALENDAR
VERSION:2.0
PRODID:-//lifelinemo.org//NONSGML kigkonsult.se iCalcreator 2.30.10//
CALSCALE:GREGORIAN
METHOD:PUBLISH
UID:7144ff4e-4e7f-44aa-b97d-a849e6b511ef
X-WR-CALDESC:
X-WR-RELCALID:c5320f834556f23cdafaebdf0c1c3e3e
X-WR-TIMEZONE:America/Chicago
BEGIN:VTIMEZONE
TZID:America/Chicago
BEGIN:STANDARD
TZNAME:CST
DTSTART:20271107T020000
TZOFFSETFROM:-0500
TZOFFSETTO:-0600
RDATE:20281105T020000
RDATE:20291104T020000
END:STANDARD
BEGIN:DAYLIGHT
TZNAME:CDT
DTSTART:20280312T020000
TZOFFSETFROM:-0600
TZOFFSETTO:-0500
RDATE:20290311T020000
RDATE:20300310T020000
END:DAYLIGHT
END:VTIMEZONE
BEGIN:VEVENT
UID:8450e629-91c6-4188-afb1-6babf79e25de
DTSTAMP:20260423T123148Z
DESCRIPTION:
DTSTART;TZID=America/Chicago:20281025T130000
DTEND;TZID=America/Chicago:20281025T140000
LOCATION:Lifeline\, 1515 N New Street\, Kirksville\, MO 63501 US
SUMMARY:Connection Groups: Spiritual Connections
END:VEVENT
END:VCALENDAR
