BEGIN:VCALENDAR
VERSION:2.0
PRODID:-//lifelinemo.org//NONSGML kigkonsult.se iCalcreator 2.30.10//
CALSCALE:GREGORIAN
METHOD:PUBLISH
UID:3461e943-af62-49b0-b148-befc8e214833
X-WR-CALDESC:
X-WR-RELCALID:717d33eedef77b065b455eeb5c6e6668
X-WR-TIMEZONE:America/Chicago
BEGIN:VTIMEZONE
TZID:America/Chicago
BEGIN:STANDARD
TZNAME:CST
DTSTART:20281105T020000
TZOFFSETFROM:-0500
TZOFFSETTO:-0600
RDATE:20291104T020000
END:STANDARD
BEGIN:DAYLIGHT
TZNAME:CDT
DTSTART:20280312T020000
TZOFFSETFROM:-0600
TZOFFSETTO:-0500
RDATE:20290311T020000
RDATE:20300310T020000
END:DAYLIGHT
END:VTIMEZONE
BEGIN:VEVENT
UID:8a66ec59-2bde-429c-965c-8946ecd1a2b9
DTSTAMP:20260423T141008Z
DESCRIPTION:
DTSTART;TZID=America/Chicago:20281120T100000
DTEND;TZID=America/Chicago:20281120T110000
LOCATION:Scotland County Health Department\, 214 W Madison St\, Memphis\, M
 O 63555 US
SUMMARY:Mobile Clinic: Memphis\, MO
END:VEVENT
END:VCALENDAR
