BEGIN:VCALENDAR
VERSION:2.0
PRODID:-//lifelinemo.org//NONSGML kigkonsult.se iCalcreator 2.30.10//
CALSCALE:GREGORIAN
METHOD:PUBLISH
UID:4138a1e9-2b71-4c10-81c2-2e17eb9e0fcb
X-WR-CALDESC:
X-WR-RELCALID:1426fe803a1ff2a7e565ed6c5a2c1581
X-WR-TIMEZONE:America/Chicago
BEGIN:VTIMEZONE
TZID:America/Chicago
BEGIN:STANDARD
TZNAME:CST
DTSTART:20281105T020000
TZOFFSETFROM:-0500
TZOFFSETTO:-0600
RDATE:20291104T020000
END:STANDARD
BEGIN:DAYLIGHT
TZNAME:CDT
DTSTART:20280312T020000
TZOFFSETFROM:-0600
TZOFFSETTO:-0500
RDATE:20290311T020000
RDATE:20300310T020000
END:DAYLIGHT
END:VTIMEZONE
BEGIN:VEVENT
UID:5927faca-ccf7-4685-86e6-0ed9cd6ca6a5
DTSTAMP:20260423T141220Z
DESCRIPTION:
DTSTART;TZID=America/Chicago:20281123T100000
DTEND;TZID=America/Chicago:20281123T110000
LOCATION:Schuyler County Health Department\, 213 S Green St\, Lancaster\, M
 O 63548 US
SUMMARY:Mobile Clinic: Lancaster\, MO
END:VEVENT
END:VCALENDAR
