BEGIN:VCALENDAR
VERSION:2.0
PRODID:-//lifelinemo.org//NONSGML kigkonsult.se iCalcreator 2.30.10//
CALSCALE:GREGORIAN
METHOD:PUBLISH
UID:da3e72f3-2a0b-4a78-83ed-88254e65fea6
X-WR-CALDESC:
X-WR-RELCALID:f7e8754275f7092c67f3ded5dffea7d6
X-WR-TIMEZONE:America/Chicago
BEGIN:VTIMEZONE
TZID:America/Chicago
BEGIN:STANDARD
TZNAME:CST
DTSTART:20281105T020000
TZOFFSETFROM:-0500
TZOFFSETTO:-0600
RDATE:20291104T020000
END:STANDARD
BEGIN:DAYLIGHT
TZNAME:CDT
DTSTART:20280312T020000
TZOFFSETFROM:-0600
TZOFFSETTO:-0500
RDATE:20290311T020000
RDATE:20300310T020000
END:DAYLIGHT
END:VTIMEZONE
BEGIN:VEVENT
UID:4b32d657-5aae-4fcf-b816-e86b06184f14
DTSTAMP:20260423T160126Z
DESCRIPTION:
DTSTART;TZID=America/Chicago:20281220T100000
DTEND;TZID=America/Chicago:20281220T110000
LOCATION:Lifeline\, 1515 N New Street\, Kirksville\, MO 63501 US
SUMMARY:Connection Groups: Newborn Parenting
END:VEVENT
END:VCALENDAR
