BEGIN:VCALENDAR
VERSION:2.0
PRODID:-//lifelinemo.org//NONSGML kigkonsult.se iCalcreator 2.30.10//
CALSCALE:GREGORIAN
METHOD:PUBLISH
UID:3a541e8e-4fb4-40a3-9569-f73ce90c29ea
X-WR-CALDESC:
X-WR-RELCALID:70e143ed46806a96014165e6d9700832
X-WR-TIMEZONE:America/Chicago
BEGIN:VTIMEZONE
TZID:America/Chicago
BEGIN:STANDARD
TZNAME:CST
DTSTART:20281105T020000
TZOFFSETFROM:-0500
TZOFFSETTO:-0600
RDATE:20291104T020000
END:STANDARD
BEGIN:DAYLIGHT
TZNAME:CDT
DTSTART:20280312T020000
TZOFFSETFROM:-0600
TZOFFSETTO:-0500
RDATE:20290311T020000
RDATE:20300310T020000
END:DAYLIGHT
END:VTIMEZONE
BEGIN:VEVENT
UID:7a56cf6d-b1ac-4a1a-88f8-6998e90903b9
DTSTAMP:20260423T175531Z
DESCRIPTION:
DTSTART;TZID=America/Chicago:20290108T130000
DTEND;TZID=America/Chicago:20290108T140000
LOCATION:Lifeline\, 1515 N New Street\, Kirksville\, MO 63501 US
SUMMARY:Group Classes: Pregnancy Nutrition
END:VEVENT
END:VCALENDAR
