BEGIN:VCALENDAR
VERSION:2.0
PRODID:-//lifelinemo.org//NONSGML kigkonsult.se iCalcreator 2.30.10//
CALSCALE:GREGORIAN
METHOD:PUBLISH
UID:622d0832-95b4-427c-a731-c92c0b08bdca
X-WR-CALDESC:
X-WR-RELCALID:9b8231945a6b98f73f3b193beaf6c8e4
X-WR-TIMEZONE:America/Chicago
BEGIN:VTIMEZONE
TZID:America/Chicago
BEGIN:STANDARD
TZNAME:CST
DTSTART:20281105T020000
TZOFFSETFROM:-0500
TZOFFSETTO:-0600
RDATE:20291104T020000
END:STANDARD
BEGIN:DAYLIGHT
TZNAME:CDT
DTSTART:20280312T020000
TZOFFSETFROM:-0600
TZOFFSETTO:-0500
RDATE:20290311T020000
RDATE:20300310T020000
END:DAYLIGHT
END:VTIMEZONE
BEGIN:VEVENT
UID:79f8fb62-994f-40fa-95db-eaa28c6e56c8
DTSTAMP:20260423T194357Z
DESCRIPTION:
DTSTART;TZID=America/Chicago:20290213T140000
DTEND;TZID=America/Chicago:20290213T150000
LOCATION:Lifeline\, 1515 N New Street\, Kirksville\, MO 63501 US
SUMMARY:Group Class: Safe Sleep
END:VEVENT
END:VCALENDAR
