BEGIN:VCALENDAR
VERSION:2.0
PRODID:-//lifelinemo.org//NONSGML kigkonsult.se iCalcreator 2.30.10//
CALSCALE:GREGORIAN
METHOD:PUBLISH
UID:4e7842da-1a90-4982-9853-71292bcc18fb
X-WR-CALDESC:
X-WR-RELCALID:e6a30e4cfc265ff4208b9818cff954af
X-WR-TIMEZONE:America/Chicago
BEGIN:VTIMEZONE
TZID:America/Chicago
BEGIN:STANDARD
TZNAME:CST
DTSTART:20281105T020000
TZOFFSETFROM:-0500
TZOFFSETTO:-0600
RDATE:20291104T020000
END:STANDARD
BEGIN:DAYLIGHT
TZNAME:CDT
DTSTART:20280312T020000
TZOFFSETFROM:-0600
TZOFFSETTO:-0500
RDATE:20290311T020000
RDATE:20300310T020000
END:DAYLIGHT
END:VTIMEZONE
BEGIN:VEVENT
UID:4a372be5-17ed-422c-a8c1-c6e0bf1f90c9
DTSTAMP:20260423T214936Z
DESCRIPTION:
DTSTART;TZID=America/Chicago:20290312T130000
DTEND;TZID=America/Chicago:20290312T140000
LOCATION:Lifeline\, 1515 N New Street\, Kirksville\, MO 63501 US
SUMMARY:Group Classes: Pregnancy Nutrition
END:VEVENT
END:VCALENDAR
