BEGIN:VCALENDAR
VERSION:2.0
PRODID:-//lifelinemo.org//NONSGML kigkonsult.se iCalcreator 2.30.10//
CALSCALE:GREGORIAN
METHOD:PUBLISH
UID:58683d81-10b7-4f9a-8dd4-034773fb3981
X-WR-CALDESC:
X-WR-RELCALID:1f3a8598ff5677a477764e2c2cbfef73
X-WR-TIMEZONE:America/Chicago
BEGIN:VTIMEZONE
TZID:America/Chicago
BEGIN:STANDARD
TZNAME:CST
DTSTART:20281105T020000
TZOFFSETFROM:-0500
TZOFFSETTO:-0600
RDATE:20291104T020000
END:STANDARD
BEGIN:DAYLIGHT
TZNAME:CDT
DTSTART:20290311T020000
TZOFFSETFROM:-0600
TZOFFSETTO:-0500
RDATE:20300310T020000
END:DAYLIGHT
END:VTIMEZONE
BEGIN:VEVENT
UID:880a6786-a542-44a5-8177-b251f0881df8
DTSTAMP:20260423T195755Z
DESCRIPTION:
DTSTART;TZID=America/Chicago:20290424T093000
DTEND;TZID=America/Chicago:20290424T103000
LOCATION:Lifeline\, 1515 N New Street\, Kirksville\, MO 63501 US
SUMMARY:Group Class: Infant First Aid
END:VEVENT
END:VCALENDAR
