BEGIN:VCALENDAR
VERSION:2.0
PRODID:-//lifelinemo.org//NONSGML kigkonsult.se iCalcreator 2.30.10//
CALSCALE:GREGORIAN
METHOD:PUBLISH
UID:16ca190a-2f08-45c4-a8c9-a949c579879e
X-WR-CALDESC:
X-WR-RELCALID:74defd3c5cf4240eabc416341fd38b14
X-WR-TIMEZONE:America/Chicago
BEGIN:VTIMEZONE
TZID:America/Chicago
BEGIN:STANDARD
TZNAME:CST
DTSTART:20281105T020000
TZOFFSETFROM:-0500
TZOFFSETTO:-0600
RDATE:20291104T020000
END:STANDARD
BEGIN:DAYLIGHT
TZNAME:CDT
DTSTART:20290311T020000
TZOFFSETFROM:-0600
TZOFFSETTO:-0500
RDATE:20300310T020000
END:DAYLIGHT
END:VTIMEZONE
BEGIN:VEVENT
UID:c821c881-835a-4fd0-81d3-4a2ee0036cbd
DTSTAMP:20260423T213629Z
DESCRIPTION:
DTSTART;TZID=America/Chicago:20290502T100000
DTEND;TZID=America/Chicago:20290502T110000
LOCATION:Lifeline\, 1515 New Street\, Kirksville\, MO 63501 US
SUMMARY:Connection Groups: Early Pregnancy
END:VEVENT
END:VCALENDAR
