BEGIN:VCALENDAR
VERSION:2.0
PRODID:-//lifelinemo.org//NONSGML kigkonsult.se iCalcreator 2.30.10//
CALSCALE:GREGORIAN
METHOD:PUBLISH
UID:409a263f-357a-418a-9771-002d20fd0168
X-WR-CALDESC:
X-WR-RELCALID:40c3f93f4cf800511a0587ee7e6e1034
X-WR-TIMEZONE:America/Chicago
BEGIN:VTIMEZONE
TZID:America/Chicago
BEGIN:STANDARD
TZNAME:CST
DTSTART:20281105T020000
TZOFFSETFROM:-0500
TZOFFSETTO:-0600
RDATE:20291104T020000
RDATE:20301103T020000
END:STANDARD
BEGIN:DAYLIGHT
TZNAME:CDT
DTSTART:20290311T020000
TZOFFSETFROM:-0600
TZOFFSETTO:-0500
RDATE:20300310T020000
END:DAYLIGHT
END:VTIMEZONE
BEGIN:VEVENT
UID:4d601962-3838-43a2-b323-00e872d02f62
DTSTAMP:20260423T231809Z
DESCRIPTION:
DTSTART;TZID=America/Chicago:20290604T110000
DTEND;TZID=America/Chicago:20290604T120000
LOCATION:635 S Main St\, Brookfield\, MO 64628 US
SUMMARY:Mobile Clinic: Brookfield\, MO
END:VEVENT
END:VCALENDAR
