BEGIN:VCALENDAR
VERSION:2.0
PRODID:-//lifelinemo.org//NONSGML kigkonsult.se iCalcreator 2.30.10//
CALSCALE:GREGORIAN
METHOD:PUBLISH
UID:9cba353b-23b3-43cb-8eb0-d2ced1cbef56
X-WR-CALDESC:
X-WR-RELCALID:42403f7792b9c2fa2341a6df3d6cdc8d
X-WR-TIMEZONE:America/Chicago
BEGIN:VTIMEZONE
TZID:America/Chicago
BEGIN:STANDARD
TZNAME:CST
DTSTART:20281105T020000
TZOFFSETFROM:-0500
TZOFFSETTO:-0600
RDATE:20291104T020000
RDATE:20301103T020000
END:STANDARD
BEGIN:DAYLIGHT
TZNAME:CDT
DTSTART:20290311T020000
TZOFFSETFROM:-0600
TZOFFSETTO:-0500
RDATE:20300310T020000
END:DAYLIGHT
END:VTIMEZONE
BEGIN:VEVENT
UID:5ba3a9f0-389d-4b1b-a5bf-e02bef6de35c
DTSTAMP:20260423T231718Z
DESCRIPTION:
DTSTART;TZID=America/Chicago:20290605T130000
DTEND;TZID=America/Chicago:20290605T140000
LOCATION:102 Monticello\, Edina\, MO 63537 US
SUMMARY:Mobile Clinic: Edina\, MO
END:VEVENT
END:VCALENDAR
