BEGIN:VCALENDAR
VERSION:2.0
PRODID:-//lifelinemo.org//NONSGML kigkonsult.se iCalcreator 2.30.10//
CALSCALE:GREGORIAN
METHOD:PUBLISH
UID:aff5c9df-c7b5-463e-b6eb-cbe8602fc55c
X-WR-CALDESC:
X-WR-RELCALID:f507f02a7882845bf7ad1684c6624125
X-WR-TIMEZONE:America/Chicago
BEGIN:VTIMEZONE
TZID:America/Chicago
BEGIN:STANDARD
TZNAME:CST
DTSTART:20281105T020000
TZOFFSETFROM:-0500
TZOFFSETTO:-0600
RDATE:20291104T020000
RDATE:20301103T020000
END:STANDARD
BEGIN:DAYLIGHT
TZNAME:CDT
DTSTART:20290311T020000
TZOFFSETFROM:-0600
TZOFFSETTO:-0500
RDATE:20300310T020000
END:DAYLIGHT
END:VTIMEZONE
BEGIN:VEVENT
UID:5fce7cba-fce4-4bf8-ab49-510e30cbc823
DTSTAMP:20260424T005652Z
DESCRIPTION:
DTSTART;TZID=America/Chicago:20290703T093000
DTEND;TZID=America/Chicago:20290703T123000
LOCATION:1515 N New St\, Kirksville\, MO 63501 US
SUMMARY:Group Class: CPR & First Aid
END:VEVENT
END:VCALENDAR
