BEGIN:VCALENDAR
VERSION:2.0
PRODID:-//lifelinemo.org//NONSGML kigkonsult.se iCalcreator 2.30.10//
CALSCALE:GREGORIAN
METHOD:PUBLISH
UID:7a3f52b8-65d1-4f02-9e53-328d8b737e39
X-WR-CALDESC:
X-WR-RELCALID:831af794be4c7eced858108577b88097
X-WR-TIMEZONE:America/Chicago
BEGIN:VTIMEZONE
TZID:America/Chicago
BEGIN:STANDARD
TZNAME:CST
DTSTART:20281105T020000
TZOFFSETFROM:-0500
TZOFFSETTO:-0600
RDATE:20291104T020000
RDATE:20301103T020000
END:STANDARD
BEGIN:DAYLIGHT
TZNAME:CDT
DTSTART:20290311T020000
TZOFFSETFROM:-0600
TZOFFSETTO:-0500
RDATE:20300310T020000
END:DAYLIGHT
END:VTIMEZONE
BEGIN:VEVENT
UID:189b5368-717a-49fb-99e9-d0a8363f9210
DTSTAMP:20260424T010012Z
DESCRIPTION:
DTSTART;TZID=America/Chicago:20290711T100000
DTEND;TZID=America/Chicago:20290711T110000
LOCATION:Lifeline\, 1515 New Street\, Kirksville\, MO 63501 US
SUMMARY:Connection Groups: Late Pregnancy
END:VEVENT
END:VCALENDAR
