BEGIN:VCALENDAR
VERSION:2.0
PRODID:-//lifelinemo.org//NONSGML kigkonsult.se iCalcreator 2.30.10//
CALSCALE:GREGORIAN
METHOD:PUBLISH
UID:668ff25b-5452-4f26-a15f-b610d6fce581
X-WR-CALDESC:
X-WR-RELCALID:90407abdd5d60534c7eaa41c24f937c2
X-WR-TIMEZONE:America/Chicago
BEGIN:VTIMEZONE
TZID:America/Chicago
BEGIN:STANDARD
TZNAME:CST
DTSTART:20281105T020000
TZOFFSETFROM:-0500
TZOFFSETTO:-0600
RDATE:20291104T020000
RDATE:20301103T020000
END:STANDARD
BEGIN:DAYLIGHT
TZNAME:CDT
DTSTART:20290311T020000
TZOFFSETFROM:-0600
TZOFFSETTO:-0500
RDATE:20300310T020000
END:DAYLIGHT
END:VTIMEZONE
BEGIN:VEVENT
UID:8ef2e851-dae5-4198-bd60-05824167130c
DTSTAMP:20260424T011623Z
DESCRIPTION:
DTSTART;TZID=America/Chicago:20290725T130000
DTEND;TZID=America/Chicago:20290725T140000
LOCATION:Lifeline\, 1515 N New Street\, Kirksville\, MO 63501 US
SUMMARY:Connection Groups: Spiritual Connections
END:VEVENT
END:VCALENDAR
