BEGIN:VCALENDAR
VERSION:2.0
PRODID:-//lifelinemo.org//NONSGML kigkonsult.se iCalcreator 2.30.10//
CALSCALE:GREGORIAN
METHOD:PUBLISH
UID:eed50969-a0a7-4c60-bdd5-65f3d51fc78f
X-WR-CALDESC:
X-WR-RELCALID:087caa18f4e85f76417a78664908eccf
X-WR-TIMEZONE:America/Chicago
BEGIN:VTIMEZONE
TZID:America/Chicago
BEGIN:STANDARD
TZNAME:CST
DTSTART:20281105T020000
TZOFFSETFROM:-0500
TZOFFSETTO:-0600
RDATE:20291104T020000
RDATE:20301103T020000
END:STANDARD
BEGIN:DAYLIGHT
TZNAME:CDT
DTSTART:20290311T020000
TZOFFSETFROM:-0600
TZOFFSETTO:-0500
RDATE:20300310T020000
END:DAYLIGHT
END:VTIMEZONE
BEGIN:VEVENT
UID:9c923c97-431a-4927-9a4d-f07706f8e785
DTSTAMP:20260424T031922Z
DESCRIPTION:
DTSTART;TZID=America/Chicago:20290815T130000
DTEND;TZID=America/Chicago:20290815T140000
LOCATION:Lifeline\, 1515 N New Street\, Kirksville\, MO 63501 US
SUMMARY:Connection Groups: Spiritual Connections
END:VEVENT
END:VCALENDAR
