BEGIN:VCALENDAR
VERSION:2.0
PRODID:-//lifelinemo.org//NONSGML kigkonsult.se iCalcreator 2.30.10//
CALSCALE:GREGORIAN
METHOD:PUBLISH
UID:70be0f13-d37d-4997-829c-bc594be67222
X-WR-CALDESC:
X-WR-RELCALID:f53b77ecca05af44d6ddfd0a9d7ed33f
X-WR-TIMEZONE:America/Chicago
BEGIN:VTIMEZONE
TZID:America/Chicago
BEGIN:STANDARD
TZNAME:CST
DTSTART:20281105T020000
TZOFFSETFROM:-0500
TZOFFSETTO:-0600
RDATE:20291104T020000
RDATE:20301103T020000
END:STANDARD
BEGIN:DAYLIGHT
TZNAME:CDT
DTSTART:20290311T020000
TZOFFSETFROM:-0600
TZOFFSETTO:-0500
RDATE:20300310T020000
RDATE:20310309T020000
END:DAYLIGHT
END:VTIMEZONE
BEGIN:VEVENT
UID:05dd71b0-b416-41d9-a494-3007c56e6cee
DTSTAMP:20260424T050213Z
DESCRIPTION:
DTSTART;TZID=America/Chicago:20290926T100000
DTEND;TZID=America/Chicago:20290926T110000
LOCATION:Lifeline\, 1515 N New Street\, Kirksville\, MO 63501 US
SUMMARY:Connection Groups: Infant Parenting
END:VEVENT
END:VCALENDAR
