BEGIN:VCALENDAR
VERSION:2.0
PRODID:-//lifelinemo.org//NONSGML kigkonsult.se iCalcreator 2.30.10//
CALSCALE:GREGORIAN
METHOD:PUBLISH
UID:02027238-4e5e-4e16-a96e-a91971a813d9
X-WR-CALDESC:
X-WR-RELCALID:c1882f7fd9040e730ab0efb1f2a08abd
X-WR-TIMEZONE:America/Chicago
BEGIN:VTIMEZONE
TZID:America/Chicago
BEGIN:STANDARD
TZNAME:CST
DTSTART:20281105T020000
TZOFFSETFROM:-0500
TZOFFSETTO:-0600
RDATE:20291104T020000
RDATE:20301103T020000
END:STANDARD
BEGIN:DAYLIGHT
TZNAME:CDT
DTSTART:20290311T020000
TZOFFSETFROM:-0600
TZOFFSETTO:-0500
RDATE:20300310T020000
RDATE:20310309T020000
END:DAYLIGHT
END:VTIMEZONE
BEGIN:VEVENT
UID:2100ecd4-c8aa-4805-94ed-17c03f70e494
DTSTAMP:20260424T064856Z
DESCRIPTION:
DTSTART;TZID=America/Chicago:20291002T093000
DTEND;TZID=America/Chicago:20291002T123000
LOCATION:1515 N New St\, Kirksville\, MO 63501 US
SUMMARY:Group Class: CPR & First Aid
END:VEVENT
END:VCALENDAR
