BEGIN:VCALENDAR
VERSION:2.0
PRODID:-//lifelinemo.org//NONSGML kigkonsult.se iCalcreator 2.30.10//
CALSCALE:GREGORIAN
METHOD:PUBLISH
UID:6d0a98a5-3e25-4184-b13d-dc6363b678c8
X-WR-CALDESC:
X-WR-RELCALID:bf91e2effdd1699f73334a61fc22d08a
X-WR-TIMEZONE:America/Chicago
BEGIN:VTIMEZONE
TZID:America/Chicago
BEGIN:STANDARD
TZNAME:CST
DTSTART:20281105T020000
TZOFFSETFROM:-0500
TZOFFSETTO:-0600
RDATE:20291104T020000
RDATE:20301103T020000
END:STANDARD
BEGIN:DAYLIGHT
TZNAME:CDT
DTSTART:20290311T020000
TZOFFSETFROM:-0600
TZOFFSETTO:-0500
RDATE:20300310T020000
RDATE:20310309T020000
END:DAYLIGHT
END:VTIMEZONE
BEGIN:VEVENT
UID:9b85aa5b-8764-4cd5-b102-355b46166200
DTSTAMP:20260424T065900Z
DESCRIPTION:
DTSTART;TZID=America/Chicago:20291003T100000
DTEND;TZID=America/Chicago:20291003T110000
LOCATION:Lifeline\, 1515 New Street\, Kirksville\, MO 63501 US
SUMMARY:Connection Groups: Early Pregnancy
END:VEVENT
END:VCALENDAR
