BEGIN:VCALENDAR
VERSION:2.0
PRODID:-//lifelinemo.org//NONSGML kigkonsult.se iCalcreator 2.30.10//
CALSCALE:GREGORIAN
METHOD:PUBLISH
UID:659c0739-65d5-4ae3-a33d-3fa4795ea95a
X-WR-CALDESC:
X-WR-RELCALID:47817f34f042d1c3751e83071b27c33c
X-WR-TIMEZONE:America/Chicago
BEGIN:VTIMEZONE
TZID:America/Chicago
BEGIN:STANDARD
TZNAME:CST
DTSTART:20281105T020000
TZOFFSETFROM:-0500
TZOFFSETTO:-0600
RDATE:20291104T020000
RDATE:20301103T020000
END:STANDARD
BEGIN:DAYLIGHT
TZNAME:CDT
DTSTART:20290311T020000
TZOFFSETFROM:-0600
TZOFFSETTO:-0500
RDATE:20300310T020000
RDATE:20310309T020000
END:DAYLIGHT
END:VTIMEZONE
BEGIN:VEVENT
UID:826b3b24-ed9b-46af-8e6c-3337225e4a15
DTSTAMP:20260424T065544Z
DESCRIPTION:
DTSTART;TZID=America/Chicago:20291024T100000
DTEND;TZID=America/Chicago:20291024T110000
LOCATION:Lifeline\, 1515 N New Street\, Kirksville\, MO 63501 US
SUMMARY:Connection Groups: Infant Parenting
END:VEVENT
END:VCALENDAR
