BEGIN:VCALENDAR
VERSION:2.0
PRODID:-//lifelinemo.org//NONSGML kigkonsult.se iCalcreator 2.30.10//
CALSCALE:GREGORIAN
METHOD:PUBLISH
UID:7ed8390c-9f38-411c-8f4a-40e86405ddcc
X-WR-CALDESC:
X-WR-RELCALID:38924879eafc1c1367343cb370a54e21
X-WR-TIMEZONE:America/Chicago
BEGIN:VTIMEZONE
TZID:America/Chicago
BEGIN:STANDARD
TZNAME:CST
DTSTART:20291104T020000
TZOFFSETFROM:-0500
TZOFFSETTO:-0600
RDATE:20301103T020000
END:STANDARD
BEGIN:DAYLIGHT
TZNAME:CDT
DTSTART:20290311T020000
TZOFFSETFROM:-0600
TZOFFSETTO:-0500
RDATE:20300310T020000
RDATE:20310309T020000
END:DAYLIGHT
END:VTIMEZONE
BEGIN:VEVENT
UID:1379c1a8-392d-4ab5-a789-3593051695db
DTSTAMP:20260424T085111Z
DESCRIPTION:
DTSTART;TZID=America/Chicago:20291113T140000
DTEND;TZID=America/Chicago:20291113T150000
LOCATION:Lifeline\, 1515 N New Street\, Kirksville\, MO 63501 US
SUMMARY:Group Class: Safe Sleep
END:VEVENT
END:VCALENDAR
