BEGIN:VCALENDAR
VERSION:2.0
PRODID:-//lifelinemo.org//NONSGML kigkonsult.se iCalcreator 2.30.10//
CALSCALE:GREGORIAN
METHOD:PUBLISH
UID:6a5d27a0-ce83-47a9-8c15-b0db51d95b81
X-WR-CALDESC:
X-WR-RELCALID:2a069756d03c2cd042cd2f93a354dff3
X-WR-TIMEZONE:America/Chicago
BEGIN:VTIMEZONE
TZID:America/Chicago
BEGIN:STANDARD
TZNAME:CST
DTSTART:20291104T020000
TZOFFSETFROM:-0500
TZOFFSETTO:-0600
RDATE:20301103T020000
END:STANDARD
BEGIN:DAYLIGHT
TZNAME:CDT
DTSTART:20290311T020000
TZOFFSETFROM:-0600
TZOFFSETTO:-0500
RDATE:20300310T020000
RDATE:20310309T020000
END:DAYLIGHT
END:VTIMEZONE
BEGIN:VEVENT
UID:f2965f7b-35fc-4f75-8c5a-8e33a97c15b3
DTSTAMP:20260424T084631Z
DESCRIPTION:
DTSTART;TZID=America/Chicago:20291114T100000
DTEND;TZID=America/Chicago:20291114T110000
LOCATION:Lifeline\, 1515 New Street\, Kirksville\, MO 63501 US
SUMMARY:Connection Groups: Late Pregnancy
END:VEVENT
END:VCALENDAR
