BEGIN:VCALENDAR
VERSION:2.0
PRODID:-//lifelinemo.org//NONSGML kigkonsult.se iCalcreator 2.30.10//
CALSCALE:GREGORIAN
METHOD:PUBLISH
UID:277d8b82-8fda-40c3-b959-c808ea0aa5ba
X-WR-CALDESC:
X-WR-RELCALID:c77203d3c4daf21620d66b043ce7f7a4
X-WR-TIMEZONE:America/Chicago
BEGIN:VTIMEZONE
TZID:America/Chicago
BEGIN:STANDARD
TZNAME:CST
DTSTART:20291104T020000
TZOFFSETFROM:-0500
TZOFFSETTO:-0600
RDATE:20301103T020000
END:STANDARD
BEGIN:DAYLIGHT
TZNAME:CDT
DTSTART:20290311T020000
TZOFFSETFROM:-0600
TZOFFSETTO:-0500
RDATE:20300310T020000
RDATE:20310309T020000
END:DAYLIGHT
END:VTIMEZONE
BEGIN:VEVENT
UID:bce332d5-8fe7-41f9-948f-1dffdef2650c
DTSTAMP:20260424T084557Z
DESCRIPTION:
DTSTART;TZID=America/Chicago:20291122T100000
DTEND;TZID=America/Chicago:20291122T110000
LOCATION:Schuyler County Health Department\, 213 S Green St\, Lancaster\, M
 O 63548 US
SUMMARY:Mobile Clinic: Lancaster\, MO
END:VEVENT
END:VCALENDAR
