BEGIN:VCALENDAR
VERSION:2.0
PRODID:-//lifelinemo.org//NONSGML kigkonsult.se iCalcreator 2.30.10//
CALSCALE:GREGORIAN
METHOD:PUBLISH
UID:3c088c70-6af7-4372-8e40-5e17f749ec33
X-WR-CALDESC:
X-WR-RELCALID:41f68a4e9d3635d6f513f7df0e6da8e5
X-WR-TIMEZONE:America/Chicago
BEGIN:VTIMEZONE
TZID:America/Chicago
BEGIN:STANDARD
TZNAME:CST
DTSTART:20291104T020000
TZOFFSETFROM:-0500
TZOFFSETTO:-0600
RDATE:20301103T020000
END:STANDARD
BEGIN:DAYLIGHT
TZNAME:CDT
DTSTART:20290311T020000
TZOFFSETFROM:-0600
TZOFFSETTO:-0500
RDATE:20300310T020000
RDATE:20310309T020000
END:DAYLIGHT
END:VTIMEZONE
BEGIN:VEVENT
UID:508c100e-10b2-4ed8-9ece-46bbe5b4a89d
DTSTAMP:20260424T140542Z
DESCRIPTION:
DTSTART;TZID=America/Chicago:20300220T100000
DTEND;TZID=America/Chicago:20300220T110000
LOCATION:Lifeline\, 1515 N New Street\, Kirksville\, MO 63501 US
SUMMARY:Connection Groups: Newborn Parenting
END:VEVENT
END:VCALENDAR
