BEGIN:VCALENDAR
VERSION:2.0
PRODID:-//lifelinemo.org//NONSGML kigkonsult.se iCalcreator 2.30.10//
CALSCALE:GREGORIAN
METHOD:PUBLISH
UID:62ff464d-a593-40a5-b2b1-ce75b56ccc21
X-WR-CALDESC:
X-WR-RELCALID:deadcd6b114ce471659688fc107b7945
X-WR-TIMEZONE:America/Chicago
BEGIN:VTIMEZONE
TZID:America/Chicago
BEGIN:STANDARD
TZNAME:CST
DTSTART:20291104T020000
TZOFFSETFROM:-0500
TZOFFSETTO:-0600
RDATE:20301103T020000
END:STANDARD
BEGIN:DAYLIGHT
TZNAME:CDT
DTSTART:20300310T020000
TZOFFSETFROM:-0600
TZOFFSETTO:-0500
RDATE:20310309T020000
END:DAYLIGHT
END:VTIMEZONE
BEGIN:VEVENT
UID:a7cdc0a0-4445-4344-98a5-3d257ca6fda2
DTSTAMP:20260424T143314Z
DESCRIPTION:
DTSTART;TZID=America/Chicago:20300403T110000
DTEND;TZID=America/Chicago:20300403T120000
LOCATION:Lifeline\, 1515 New Street\, Kirksville\, MO 63501 US
SUMMARY:Connection Groups: Community Connections
END:VEVENT
END:VCALENDAR
