BEGIN:VCALENDAR
VERSION:2.0
PRODID:-//lifelinemo.org//NONSGML kigkonsult.se iCalcreator 2.30.10//
CALSCALE:GREGORIAN
METHOD:PUBLISH
UID:09ee23c3-f450-4bdc-a345-34de47aead46
X-WR-CALDESC:
X-WR-RELCALID:7aade2d2522a4d3cea6de4936a896dfb
X-WR-TIMEZONE:America/Chicago
BEGIN:VTIMEZONE
TZID:America/Chicago
BEGIN:STANDARD
TZNAME:CST
DTSTART:20291104T020000
TZOFFSETFROM:-0500
TZOFFSETTO:-0600
RDATE:20301103T020000
RDATE:20311102T020000
END:STANDARD
BEGIN:DAYLIGHT
TZNAME:CDT
DTSTART:20300310T020000
TZOFFSETFROM:-0600
TZOFFSETTO:-0500
RDATE:20310309T020000
END:DAYLIGHT
END:VTIMEZONE
BEGIN:VEVENT
UID:fdfdd7cd-339e-4545-99b6-46f16508ee23
DTSTAMP:20260424T162444Z
DESCRIPTION:
DTSTART;TZID=America/Chicago:20300528T093000
DTEND;TZID=America/Chicago:20300528T103000
LOCATION:Lifeline\, 1515 N New Street\, Kirksville\, MO 63501 US
SUMMARY:Group Class: Infant First Aid
END:VEVENT
END:VCALENDAR
